BEGIN:VCALENDAR
VERSION:2.0
PRODID:-//eventon.com NONSGML v1.0//EN
BEGIN:VEVENT
UID:69ea2ae271ca7
DTSTAMP:20260423T142122
DTSTART:20260502T100000Z
DTEND:20260502T140000Z
LOCATION:The Swan Inn\,  Chaddesley Corbett. DY10 4SD 
SUMMARY:MAY 2026 - SATURDAY LONG WALK
DESCRIPTION: &nbsp; This will be about 6 miles long\,  with possibly mud\,  stiles and/or steep slopes and with a faster pace. Meet at 9.50 for 10.am at The Swan Inn Car Park\,  Chaddesley Corbett.  DY10 4SD
END:VEVENT
END:VCALENDAR