BEGIN:VCALENDAR
VERSION:2.0
PRODID:-//eventon.com NONSGML v1.0//EN
BEGIN:VEVENT
UID:69ea2ac588319
DTSTAMP:20260423T142053
DTSTART:20261226T103000Z
DTEND:20261226T113000Z
LOCATION:Springfield Park\,  Kidderminster DY10 2PY 
SUMMARY:Saturday Springfield Short Walk
DESCRIPTION: A Grade 1 walk\,  lasting about 60 minutes. Meet in Springfield Park (Brookdale Car Park) at 10.20am for a prompt 10.30am start.  DY10 2PY
END:VEVENT
END:VCALENDAR