BEGIN:VCALENDAR
VERSION:2.0
PRODID:-//eventon.com NONSGML v1.0//EN
BEGIN:VEVENT
UID:69ea2ae2e4fc8
DTSTAMP:20260423T142122
DTSTART:20261212T103000Z
DTEND:20261212T113000Z
LOCATION:Springfield Park\,  Kidderminster DY10 2PY 
SUMMARY:Saturday Springfield Short Walk
DESCRIPTION: A Grade 1 walk\,  lasting about 60 minutes. Meet in Springfield Park (Brookdale Car Park) at 10.20am for a prompt 10.30am start.  DY10 2PY
END:VEVENT
END:VCALENDAR