BEGIN:VCALENDAR
VERSION:2.0
PRODID:-//eventon.com NONSGML v1.0//EN
BEGIN:VEVENT
UID:69ea2bd03ef26
DTSTAMP:20260423T142520
DTSTART:20261223T023000Z
DTEND:20261223T033000Z
LOCATION:Severn&#039;s Club Car Park\,  Lickhill Road\,  Stourport DY13 8SB 
SUMMARY:Wednesday Stourport Very Short Walk
DESCRIPTION: Meet in the Severn's Club Car Park\,  Lickhill Road - every 2nd & 4th Wednesday of the calendar month. Meeting at 2.20 for a prompt 2.30pm start. It is a Grade 1 walk therefore mainly on hard surfaces with no styles or hard slopes. It is ideal for someone with[..]
END:VEVENT
END:VCALENDAR