BEGIN:VCALENDAR
VERSION:2.0
PRODID:-//eventon.com NONSGML v1.0//EN
BEGIN:VEVENT
UID:69ea2c157a459
DTSTAMP:20260423T142629
DTSTART:20260903T180000Z
DTEND:20260903T200000Z
LOCATION:The Queens Head\,  Wolverley. DY11 5XB 
SUMMARY:Thursday Wolverley Walk
DESCRIPTION: A Grade 2 walk lasting 75-90 minutes and covering 2-3 miles and may involve uneven surfaces\,  slopes\,  styles and muddy terrain. Meet at 5.50pm for a prompt 6.00pm start. At The Queens Head Car Park\,  Wolverley.  DY11 5XB
END:VEVENT
END:VCALENDAR