BEGIN:VCALENDAR
VERSION:2.0
PRODID:-//eventon.com NONSGML v1.0//EN
BEGIN:VEVENT
UID:69ea2c160e21d
DTSTAMP:20260423T142630
DTSTART:20260929T130000Z
DTEND:20260929T143000Z
LOCATION:Dog Lane Car Park\,  Bewdley. DY12 2EF 
SUMMARY:Tuesday Bewdley Walk
DESCRIPTION: Meet in Dog Lane Car Park\,  12.50 for a prompt 1pm start. It is a Grade 2 walk therefore may include unlevel surfaces\,  mud and styles. It lasts approximately 75-90 minutes covering 2-3 miles.
END:VEVENT
END:VCALENDAR