BEGIN:VCALENDAR
VERSION:2.0
PRODID:-//eventon.com NONSGML v1.0//EN
BEGIN:VEVENT
UID:69ea2b462e242
DTSTAMP:20260423T142302
DTSTART:20261110T133000Z
DTEND:20261110T143000Z
LOCATION:Dog Lane Car Park\,  Bewdley. DY12 2EF 
SUMMARY:Tuesday Bewdley Shorter Walk
DESCRIPTION: Meet in Dog Lane Car Park 1.20 for a prompt 1.30pm start. The walk is a grade 1-2 walk generally on the flat surfaces and lasts approximately 60mins. &nbsp;
END:VEVENT
END:VCALENDAR