BEGIN:VCALENDAR
VERSION:2.0
PRODID:-//eventon.com NONSGML v1.0//EN
BEGIN:VEVENT
UID:69ea2be73c728
DTSTAMP:20260423T142543
DTSTART:20270107T110000Z
DTEND:20270107T123000Z
LOCATION:The Queens Head\,  Wolverley. DY11 5XB 
SUMMARY:Thursday Wolverley Walk
DESCRIPTION: A Grade 2 walk lasting 75-90 minutes and covering 2-3 miles and may involve uneven surfaces\,  slopes styles and muddy terrain. Meet at 10:50am for a prompt 11:00am start in The Queens Head Car Park\,  Wolverley.DY11 5XB
END:VEVENT
END:VCALENDAR