BEGIN:VCALENDAR
VERSION:2.0
PRODID:-//eventon.com NONSGML v1.0//EN
BEGIN:VEVENT
UID:69ea2b599faca
DTSTAMP:20260423T142321
DTSTART:20270102T100000Z
DTEND:20270102T000000Z
LOCATION:Springfield Park\,  Kidderminster DY10 2PY 
SUMMARY:Saturday Springfield Walk
DESCRIPTION: A Grade 2 walk lasting 90-120 minutes\,  with a 30 min break in the middle. It may involve uneven surfaces\,  slopes styles and muddy terrain. Meet in Springfield Park (Brookdale Car Park) at 9.50am for a prompt 10am start.  DY10 2PY &nbsp;
END:VEVENT
END:VCALENDAR