BEGIN:VCALENDAR
VERSION:2.0
PRODID:-//eventon.com NONSGML v1.0//EN
BEGIN:VEVENT
UID:69ea2bd15a0e9
DTSTAMP:20260423T142521
DTSTART:20261230T140000Z
DTEND:20261230T153000Z
LOCATION:Lidl Car Park\,  Stourport. DY13 8YJ 
SUMMARY:Wednesday Stourport Walk
DESCRIPTION: It is a Grade 2 walk therefore may include unlevel surfaces\,  mud and styles. It lasts approximately 75-90 minutes covering 2-3 miles. Meet at 1.50 for a prompt 2pm start\,  in Lidl Car Park\,  Stourport. DY13 8YJ
END:VEVENT
END:VCALENDAR